Workbook
Name _Ref111015942: 'Liner System Design'!#REF!

Sheet Home
C2: Title
B3: Cost Model for Pumped Storage Hydropower Geomembrane Lining Systems
C5: Version 1.0 | March 2026
C8: Instructions
C10: Overview: This model offers an approximation of geomembrane lining system costs for pumped storage hydropower (PSH) reservoirs. The spreadsheet is organized as a series of worksheets focused on different topics: "Home", "Project Info & Setup", "Reservoir Design", "Liner System Design", "Cost Estimate", and "Glossary". These sheets are intended to be completed sequentially, and the bottom of each sheet includes a "Home" and a "Previous" and/or "Next" button for navigation purposes. Instructions and a legend are provided at the top of each sheet, and entries should be made from top to bottom. Assumptions are listed at the bottom of each sheet. To get started, click the "Start" button below.
C19: Accessibility: This tool is housed at hydrosource.ornl.gov and accessible via osti.gov. In addition, a report with embedded User Guide is available. These resources are available at the following link:
C22: - Report: | E22: URL
C24: Authorship & contact information:
D25: Scott DeNeale, Oak Ridge National Laboratory | denealest@ornl.gov
D26: Antonia Chu, Oak Ridge National Laboratory
D27: Mustafa Altinakar, Argonne National Laboratory
D28: Jason Hedien, Stantec
D29: Vladimir Koritarov, Argonne National Laboratory | koritarov@anl.gov
C32: Disclaimer
C34: Conditions: This model is not intended to replace professional engineering design and calculation. The model makes a number of assumptions, which are documented on the sheets that follow. Data related to unit cost rates are based on very limited information and are presented in 2024$. The user is responsible for all inputs used in the model. Additional insights into more detailed engineering considerations are provided in the User Guide and Report.
C40: Sponsor: This work was sponsored by the US Department of Energy, Water Power Technologies Office.
C43: Disclaimer: This model was prepared as an account of work sponsored by an agency of the United States Government. Neither the United States Government nor any agency thereof, nor any of their employees, makes any warranty, express or implied, or assumes any legal liability or responsibility for the accuracy, completeness, or usefulness of any information, apparatus, product, or process disclosed, or represents that its use would not infringe privately owned rights. Reference herein to any specific commercial product, process, or service by trade name, trademark, manufacturer, or otherwise, does not necessarily constitute or imply its endorsement, recommendation, or favoring by the United States Government or any agency thereof. The views and opinions of authors expressed herein do not necessarily state or reflect those of the United States Government or any agency thereof.
B55: Sponsored by:

Sheet Project Info & Setup
C2: Project Information
C4: Project Name
C5: Project Location
C6: Project Description
C7: Reservoir Position (upper or lower reservoir)
C8: Plant Configuration (open- or closed-loop)
C9: Contact Person

Sheet Reservoir Design
C2: Reservoir Geometry
C4: Instructions: Enter "user-defined" information in the yellow cells below (required user inputs),
D5: or enter "custom input" in the orange cells below. Work from the top of the sheet to the bottom.
C7: Legend: | E7: required user inputs.
E8: calculated outputs (these can be overridden using the orange custom user inputs).
E9: optional, custom inputs (these override the calculated outputs).
E10: value not used
D11: blue text | E11: entered information
D12: P | E12: input used
C14: INPUT | G14: User-defined
C16: Shape | F16: =IF(ISBLANK(G16),"",IF(OR(ISNUMBER(K25),ISNUMBER(K26)),"","P"))
C17: Height | F17: =IF($G$16="non-standard","",IF(ISBLANK(G17),"",IF(OR($K$25>0,$K$26>0),"","P"))) | H17: =IF($G$16="non-standard","","ft") -> ft
C18: Bottom length | F18: =IF($G$16="non-standard","",IF(ISBLANK(G18),"",IF(OR($K$25>0,$K$26>0),"","P"))) | H18: =IF($G$16="non-standard","","ft") -> ft
C19: Bottom width | F19: =IF($G$16="non-standard","",IF(ISBLANK(G19),"",IF(OR($K$25>0,$K$26>0),"","P"))) | H19: =IF($G$16="non-standard","","ft") -> ft
C20: Side slope | F20: =IF($G$16="non-standard","",IF(ISBLANK(G20),"",IF(OR($K$25>0,$K$26>0),"","P"))) | H20: =IF($G$16="non-standard","","H:1V") -> H:1V
C23: OUTPUT | G23: Calculated | K23: Custom Input
C25: Reservoir bottom lined surface area | G25: =IF(OR(G17=0,G18=0,G19=0,G20=0),0,IF(K27=0,IF(G16="non-standard","non-st",IF(ISERROR('SA+V calculation'!N17),0,'SA+V calculation'!N17)),"Custom")) -> 0 | H25: =IF(G27="Custom","",IF($G$16="non-standard","use Custom Input","ft2")) -> ft2 | J25: =IF(ISBLANK(K25),"","P") | L25: ft2
C26: Reservoir side slope lined surface area | G26: =IF(OR(G17=0,G18=0,G19=0,G20=0),0,IF(K27=0,IF(G16="non-standard","non-st",IF(ISERROR('SA+V calculation'!N16),0,'SA+V calculation'!N16)),"Custom")) -> 0 | H26: =IF(G26="Custom","",IF($G$16="non-standard","use Custom Input","ft2")) -> ft2 | J26: =IF(ISBLANK(K26),"","P") | L26: ft2
C27: Combined reservoir lined surface area | G27: =IF(OR(G17=0,G18=0,G19=0,G20=0),0,IF(K27=0,IF(G16="non-standard","non-st",IF(ISERROR('SA+V calculation'!N18),0,'SA+V calculation'!N18)),"Custom")) -> 0 | H27: =IF(G27="Custom","",IF($G$16="non-standard","","ft2")) -> ft2 | J27: =IF(K27>0,"P","") | K27: =SUM(K25:K26) -> 0 | L27: ft2
K28: =IF(K25>0,"Warning: the user is responsible for verifying custom inputs.","")
C29: Total volume of lined reservoir | G29: =IF(G16=0,"",IF(G16="non-standard","N/A",IF(G16="rectangular",IF(ISERROR(Geometry!B24),0,Geometry!B24),IF(G16="elliptical/circular",IF(ISERROR(Geometry!F24),0,Geometry!F24),"N/A")))) | H29: ft3 | L29: ft3
C30: (for reference only; not used in subsequent calculations)
C31: Total volume of lined reservoir | G31: =IF(ISERROR(G29*0.0000229569),"",G29*0.0000229569) | H31: acre-ft | L31: acre-ft
C32: (for reference only; not used in subsequent calculations)
C35: Assumptions
C36: 1. Rectangular and circular/elliptical shapes are treated as idealized and uniform.
C37: 2. Non-standard shapes require custom inputs.
C38: 3. Height refers to the average depth from the reservoir bottom surface to the top edge of the reservoir structure.
C39: 4. For an elliptical/circular shape, the bottom length and bottom width are equivalent to double the semi-major and semi-minor axis.
C41: 5. Side slope is average and does not account for variations in slope that may occur.
C42: 6. Combined reservoir lined surface area excludes lining of anchor trench. The anchor trench input is in the following Liner System Design sheet.
C44: 7. Storage volume is provided for reference only and is not used subsequently in the model.
C45: 8. The user is responsible for verifying custom inputs.
C46: 9. If custom inputs are used in this sheet, those values are carried over to the "Liner System Design" sheet. Otherwise, calculated values are used.
C50: User Notes

Sheet Liner System Design
C2: Geomembrane Liner System Design
C4: Instructions: Enter "user-defined" information in the yellow cells below (required user inputs),
D5: or enter "custom input" in the orange cells below. Work from the top of the sheet to the bottom.
C7: Legend: | E7: required user inputs.
E8: calculated outputs (these can be overridden using the orange custom user inputs).
E9: optional user input
E10: optional, custom inputs (these override the calculated outputs).
E11: value not used
D12: blue text | E12: entered information
D13: P | E13: input used
C15: Liner System Design
D16: INPUT | H16: User-defined | L16: Custom Input
D18: Liner system bottom surface area | H18: =IF(ISBLANK('Reservoir Design'!K25),'Reservoir Design'!G25,'Reservoir Design'!K25) -> 0 | I18: ft2
D19: Liner system side slope surface area | H19: =IF(ISBLANK('Reservoir Design'!K26),'Reservoir Design'!G26,'Reservoir Design'!K26) -> 0 | I19: ft2
D20: Anchor trench used? | G20: =IF(ISBLANK(H20),"","P")
D21: Horizontal offset from reservoir edge to anchor trench | G21: =IF(H20="","",IF(H20="no","",IF('Reservoir Design'!G16="non-standard","",IF(H20="no","",IF(OR(ISBLANK(H21),ISBLANK(H22),ISBLANK(H23)),"",IF($H$24="","","P")))))) | I21: ft
D22: Depth of anchor trench | G22: =IF(H20="","",IF(H20="no","",IF('Reservoir Design'!G16="non-standard","",IF(H20="no","",IF(OR(ISBLANK(H21),ISBLANK(H22),ISBLANK(H23)),"",IF($H$24="","","P")))))) | I22: ft
D23: Width of anchor trench | G23: =IF(H20="","",IF(H20="no","",IF('Reservoir Design'!G16="non-standard","",IF(H20="no","",IF(OR(ISBLANK(H21),ISBLANK(H22),ISBLANK(H23)),"",IF($H$24="","","P")))))) | I23: ft
D24: Liner surface area for anchoring | H24: =IF(L24>0,L24,IF(AND(H21>0,H22>0,H23>0),Geometry!B32,"blank")) -> blank | I24: ft2 | K24: =IF(ISBLANK(L24),"",IF(OR(ISNUMBER(P33),ISNUMBER(P34)),"","P")) | M24: ft2
D25: Geomembrane, single or double? | G25: =IF(ISBLANK(H25),"","P")
D26: Geotextile used? | G26: =IF(ISBLANK(H26),"","P")
D27: Drainage & leak detection layer used? | G27: =IF(ISBLANK(H27),"","P")
D28: Cover layer used? | G28: =IF(ISBLANK(H28),"","P")
C31: Geomembrane
D32: INPUT | H32: User-defined | L32: Custom Input
D34: Number of layers | H34: =IF(H25="single",1,IF(H25="double",2,""))
D35: Layer 1 material (bottom) | G35: =IF(ISBLANK(H35),"",IF($H$25="","","P"))
D36: Layer 1 thickness (bottom) | G36: =IF(ISBLANK(H36),"",IF($H$25="","","P")) | I36: mil
D37: Layer 1 material (side slopes) | G37: =IF(ISBLANK(H37),"",IF($H$25="","","P"))
D38: Layer 1 thickness (side slopes) | G38: =IF(ISBLANK(H38),"",IF($H$25="","","P")) | I38: mil
D39: Layer 1 material (anchor trench) | G39: =IF(H20="no","",IF(ISBLANK(H39),"",IF($H$25="","","P")))
D40: Layer 1 thickness (anchor trench) | G40: =IF(H20="no","",IF(ISBLANK(H40),"",IF($H$25="","","P"))) | I40: mil
D41: Layer 2 material (bottom) | G41: =IF(ISBLANK(H41),"",IF($H$25="","",IF($H$25="single","","P")))
D42: Layer 2 thickness (bottom) | G42: =IF(ISBLANK(H42),"",IF($H$25="","",IF($H$25="single","","P"))) | I42: mil
D43: Layer 2 material (side slopes) | G43: =IF(ISBLANK(H43),"",IF($H$25="","",IF($H$25="single","","P")))
D44: Layer 2 thickness (side slopes) | G44: =IF(ISBLANK(H44),"",IF($H$25="","",IF($H$25="single","","P"))) | I44: mil
D45: Layer 2 material (anchor trench) | G45: =IF(H20="no","",IF(ISBLANK(H45),"",IF($H$25="","",IF($H$25="single","","P"))))
D46: Layer 2 thickness (anchor trench) | G46: =IF(H20="no","",IF(ISBLANK(H46),"",IF($H$25="","",IF($H$25="single","","P")))) | I46: mil
D49: OUTPUT | H49: Calculated | L49: Custom Input
D51: Geomembrane layer 1 unit cost (bottom) | H51: =IF(ISNA(ROUND(VLOOKUP(H35&H36,'Cost lookup'!$D$4:$G$12,4,0),2)),"",ROUND(VLOOKUP(H35&H36,'Cost lookup'!$D$4:$G$12,4,0),2)) | I51: $/ft2 | K51: =IF(ISBLANK(L51),"",IF($H$25="","","P")) | L51: 0.6 | M51: $/ft2
...

Sheet Cost Estimate
C2: Cost Estimates
C4: Instructions: Enter "user-defined" information in the yellow cells below (required user inputs),
D5: or enter "custom input" in the orange cells below. Work from the top of the sheet to the bottom.
C7: Legend: | E7: required user inputs.
E8: calculated outputs (these can be overridden using the orange custom user inputs).
E9: optional, custom inputs (these override the calculated outputs).
E10: value not used
D11: blue text | E11: entered information
D12: P | E12: input used
C14: Geomembrane
D15: OUTPUT | H15: Calculated | L15: Custom Input
D17: Geomembrane layer 1 cost (bottom) | H17: =IF('Liner System Design'!$H$34="",0,IF('Liner System Design'!L51>0,'Liner System Design'!L51*'Liner System Design'!$H$18,'Liner System Design'!H51*'Liner System Design'!$H$18)) -> 0 | K17: =IF(ISBLANK(L17),"","P")
D18: Geomembrane layer 1 cost (side slopes) | H18: =IF('Liner System Design'!$H$34="",0,IF('Liner System Design'!L52>0,'Liner System Design'!L52*'Liner System Design'!$H$19,'Liner System Design'!H52*'Liner System Design'!$H$19)) -> 0 | K18: =IF(ISBLANK(L18),"","P")
D19: Geomembrane layer 1 cost (anchor trench) | H19: =IF(ISERROR(IF('Liner System Design'!H20="no",0,IF('Liner System Design'!$H$34="",0,IF('Liner System Design'!L53>0,'Liner System Design'!L53*'Liner System Design'!$H$24,'Liner System Design'!H52*'Liner System Design'!$H$24)))),0,IF('Liner System Design'!H20="no",0,IF('Liner System Design'!$H$34="",0,IF('Liner System Design'!L53>0,'Liner System Design'!L53*'Liner System Design'!$H$24,'Liner System Design'!H52*'Liner System Design'!$H$24)))) -> 0 | K19: =IF(ISBLANK(L19),"","P")
D20: Geomembrane layer 2 cost (bottom) | H20: =IF('Liner System Design'!$H$34="",0,IF('Liner System Design'!$H$34<2,0,IF('Liner System Design'!L54>0,'Liner System Design'!L54*'Liner System Design'!$H$18,'Liner System Design'!H54*'Liner System Design'!$H$18))) -> 0 | K20: =IF(ISBLANK(L20),"","P")
D21: Geomembrane layer 2 cost (side slopes) | H21: =IF('Liner System Design'!$H$34="",0,IF('Liner System Design'!$H$34<2,0,IF('Liner System Design'!L55>0,'Liner System Design'!L55*'Liner System Design'!$H$19,'Liner System Design'!H55*'Liner System Design'!$H$19))) -> 0 | K21: =IF(ISBLANK(L21),"","P")
D22: Geomembrane layer 2 cost (anchor trench) | H22: =IF('Liner System Design'!$H$34<2,0,IF(ISERROR(IF('Liner System Design'!H20="no",0,IF('Liner System Design'!$H$34="",0,IF('Liner System Design'!L56>0,'Liner System Design'!L56*'Liner System Design'!$H$24,'Liner System Design'!H56*'Liner System Design'!$H$24)))),0,IF('Liner System Design'!H20="no",0,IF('Liner System Design'!$H$34="",0,IF('Liner System Design'!L56>0,'Liner System Design'!L56*'Liner System Design'!$H$24,'Liner System Design'!H56*'Liner System Design'!$H$24))))) -> 0 | K22: =IF(ISBLANK(L22),"","P")
D23: Total geomembrane cost | H23: =IF('Liner System Design'!H25="",0,SUM(H17:H22)) -> 0 | K23: =IF(SUM(L17:L21)>0,"P","") | L23: =IF(SUM('Liner System Design'!H34)=0,0,SUM(L17:L22)) -> 0
H24: =IF(ISERROR(H23),"Error: check previous calculations","") | L24: =IF(SUM(L17:L21)>0,"Warning: user is responsible for verifying custom inputs","")
C26: Geotextile
D27: OUTPUT | H27: Calculated | L27: Custom Input
D29: Geotextile layer 1 cost (bottom) | H29: =IF('Liner System Design'!$H$62<1,0,IF('Liner System Design'!L85>0,'Liner System Design'!$H$18*'Liner System Design'!L85,'Liner System Design'!$H$18*'Liner System Design'!H85)) -> 0 | K29: =IF(ISBLANK(L29),"","P")
D30: Geotextile layer 1 cost (side slopes) | H30: =IF('Liner System Design'!$H$62<1,0,IF('Liner System Design'!L86>0,'Liner System Design'!$H$19*'Liner System Design'!L86,'Liner System Design'!$H$19*'Liner System Design'!H86)) -> 0 | K30: =IF(ISBLANK(L30),"","P")
D31: Geotextile layer 1 cost (anchor trench) | H31: =IF('Liner System Design'!$H$20="no",0,IF('Liner System Design'!H20="no",0,IF('Liner System Design'!$H$26="no",0,IF('Liner System Design'!$H$62<1,0,'Liner System Design'!$H$24*'Liner System Design'!H87)))) -> 0 | K31: =IF(ISBLANK(L31),"","P")
D32: Geotextile layer 2 cost (bottom) | H32: =IF('Liner System Design'!$H$62<2,0,IF('Liner System Design'!L88>0,'Liner System Design'!$H$18*'Liner System Design'!L88,'Liner System Design'!$H$18*'Liner System Design'!H88)) -> 0 | K32: =IF(ISBLANK(L32),"","P")
D33: Geotextile layer 2 cost (side slopes) | H33: =IF('Liner System Design'!$H$62<2,0,IF('Liner System Design'!L89>0,'Liner System Design'!$H$19*'Liner System Design'!L89,'Liner System Design'!$H$19*'Liner System Design'!H89)) -> 0 | K33: =IF(ISBLANK(L33),"","P")
D34: Geotextile layer 2 cost (anchor trench) | H34: =IF('Liner System Design'!$H$20="no",0,IF('Liner System Design'!$H$26="no",0,IF('Liner System Design'!$H$62<2,0,'Liner System Design'!$H$24*'Liner System Design'!H90))) -> 0 | K34: =IF(ISBLANK(L34),"","P")
D35: Geotextile layer 3 cost (bottom) | H35: =IF('Liner System Design'!$H$62<3,0,IF('Liner System Design'!L91>0,'Liner System Design'!$H$18*'Liner System Design'!L91,'Liner System Design'!$H$18*'Liner System Design'!H91)) -> 0 | K35: =IF(ISBLANK(L35),"","P")
D36: Geotextile layer 3 cost (side slopes) | H36: =IF('Liner System Design'!$H$62<3,0,IF('Liner System Design'!L92>0,'Liner System Design'!$H$19*'Liner System Design'!L92,'Liner System Design'!$H$19*'Liner System Design'!H92)) -> 0 | K36: =IF(ISBLANK(L36),"","P")
D37: Geotextile layer 3 cost (anchor trench) | H37: =IF('Liner System Design'!$H$20="no",0,IF('Liner System Design'!$H$26="no",0,IF('Liner System Design'!$H$62<3,0,'Liner System Design'!$H$24*'Liner System Design'!H93))) -> 0 | K37: =IF(ISBLANK(L37),"","P")
D38: Geotextile layer 4 cost (bottom) | H38: =IF('Liner System Design'!$H$62<4,0,IF('Liner System Design'!L94>0,'Liner System Design'!$H$18*'Liner System Design'!L94,'Liner System Design'!$H$18*'Liner System Design'!H94)) -> 0 | K38: =IF(ISBLANK(L38),"","P")
D39: Geotextile layer 4 cost (side slopes) | H39: =IF('Liner System Design'!$H$62<4,0,IF('Liner System Design'!L95>0,'Liner System Design'!$H$19*'Liner System Design'!L95,'Liner System Design'!$H$19*'Liner System Design'!H95)) -> 0 | K39: =IF(ISBLANK(L39),"","P")
D40: Geotextile layer 4 cost (anchor trench) | H40: =IF('Liner System Design'!$H$20="no",0,IF('Liner System Design'!$H$26="no",0,IF('Liner System Design'!$H$62<4,0,'Liner System Design'!$H$24*'Liner System Design'!H96))) -> 0 | K40: =IF(ISBLANK(L40),"","P")
D41: Geotextile layer 5 cost (bottom) | H41: =IF('Liner System Design'!$H$62<5,0,IF('Liner System Design'!L97>0,'Liner System Design'!$H$18*'Liner System Design'!L97,'Liner System Design'!$H$18*'Liner System Design'!H97)) -> 0 | K41: =IF(ISBLANK(L41),"","P")
D42: Geotextile layer 5 cost (side slopes) | H42: =IF('Liner System Design'!$H$62<5,0,IF('Liner System Design'!L98>0,'Liner System Design'!$H$19*'Liner System Design'!L98,'Liner System Design'!$H$19*'Liner System Design'!H98)) -> 0 | K42: =IF(ISBLANK(L42),"","P")
D43: Geotextile layer 5 cost (anchor trench) | H43: =IF('Liner System Design'!$H$20="no",0,IF('Liner System Design'!$H$26="no",0,IF('Liner System Design'!$H$62<5,0,'Liner System Design'!$H$24*'Liner System Design'!H99))) -> 0 | K43: =IF(ISBLANK(L43),"","P")
D44: Geotextile layer 6 cost (bottom) | H44: =IF('Liner System Design'!$H$62<6,0,IF('Liner System Design'!L100>0,'Liner System Design'!$H$18*'Liner System Design'!L100,'Liner System Design'!$H$18*'Liner System Design'!H100)) -> 0 | K44: =IF(ISBLANK(L44),"","P")
D45: Geotextile layer 6 cost (side slopes) | H45: =IF('Liner System Design'!$H$62<6,0,IF('Liner System Design'!L101>0,'Liner System Design'!$H$19*'Liner System Design'!L101,'Liner System Design'!$H$19*'Liner System Design'!H101)) -> 0 | K45: =IF(ISBLANK(L45),"","P")
D46: Geotextile layer 6 cost (anchor trench) | H46: =IF('Liner System Design'!$H$20="no",0,IF('Liner System Design'!$H$26="no",0,IF('Liner System Design'!$H$62<6,0,'Liner System Design'!$H$24*'Liner System Design'!H102))) -> 0 | K46: =IF(ISBLANK(L46),"","P")
D47: Total geotextile cost | H47: =IF('Liner System Design'!H26="yes",SUM(H29:H46),0) -> 0 | K47: =IF(SUM(L29:L45)>0,"P","") | L47: =IF(SUM('Liner System Design'!H62)=0,0,SUM(L29:L46)) -> 0
...

Sheet Glossary
C2: Glossary
C4: HDPE: high density polyethylene
C5: LLDPE: linear low-density polyethylene
C6: PVC: polyvinyl chloride
C8: mil: one-thousanth of an inch (0.001 inches)
C9: ft: feet
C10: ft2: square feet
C11: ft3: cubic feet
C12: yd: yard
C13: yd3: cubic yards
C14: g/m2: grams per square meter
C15: H:V: horizontal-to-vertical slope
... C19: $/yd3: dollars per cubic yard

Sheet SA+V calculation
C2: input | D2: input | E2: input | F2: input | G2: calculated | H2: calculated | I2: calculated | J2: calculated | K2: calculated | L2: calculated | M2: calculated | N2: calculated | P2: ellipse calc | Q2: ellipse calc | R2: ellipse calc | S2: ellipse calc | T2: ellipse calc | U2: ellipse calc | V2: pyramid calc
B3: Shape | C3: Depth | D3: bottom length | E3: bottom width | F3: Side slope | G3: Hypotenuse length | H3: Hypotenuse width | I3: bottom circumference | J3: Top length | K3: Top width | L3: top circumference | M3: sloped surface area | N3: bottom surface area | O3: volume | P3: ellipse top a | Q3: ellipse top b | R3: ellipse top h | S3: ellipse bottom a | T3: ellipse bottom b | U3: ellipse bottom h | V3: full pyramid height
B4: elliptical/circular | C4: ='Reservoir Design'!$G$17 -> 0 | D4: ='Reservoir Design'!G18 -> 0 | E4: ='Reservoir Design'!G19 -> 0 | F4: ='Reservoir Design'!$G$20 -> 0 | G4: =SQRT(C4^2+(F4*C4)^2) -> 0 | H4: =SQRT(C4^2+(F4*C4)^2) -> 0 | I4: =PI()*(S4+T4)*(1+3*U4/(10+SQRT(4-3*U4))) -> #DIV/0! | J4: =D4+2*F4*C4 -> 0 | K4: =E4+2*F4*C4 -> 0 | L4: =PI()*(P4+Q4)*(1+3*R4/(10+SQRT(4-3*R4))) -> #DIV/0! | M4: =AVERAGE(L4,I4)*G4 -> #DIV/0! | N4: =PI()*S4*T4 -> 0 | O4: =PI()/3*((S4+F4*C4)*(T4+F4*C4))*(C4+S4/F4)-PI()/3*S4^2*T4/F4 -> #DIV/0! | P4: =J4/2 -> 0 | Q4: =K4/2 -> 0 | R4: =(P4-Q4)^2/(P4+Q4)^2 -> #DIV/0! | S4: =D4/2 -> 0 | T4: =E4/2 -> 0 | U4: =(S4-T4)^2/(S4+T4)^2 -> #DIV/0!
B5: rectangular | C5: ='Reservoir Design'!$G$17 -> 0 | D5: ='Reservoir Design'!G18 -> 0 | E5: ='Reservoir Design'!G19 -> 0 | F5: ='Reservoir Design'!$G$20 -> 0 | G5: =SQRT(C5^2+(F5*C5)^2) -> 0 | H5: =SQRT(C5^2+(F5*C5)^2) -> 0 | I5: =2*D5+2*E5 -> 0 | J5: =D4+2*F4*C4 -> 0 | K5: =E4+2*F4*C4 -> 0 | L5: =2*J5+2*K5 -> 0 | M5: =2*1/2*SUM(J5,D5)*G5+2*1/2*SUM(K5,E5)*G5 -> 0 | N5: =D5*E5 -> 0 | O5: =1/3*J5*K5*V5-1/3*D5*E5*(V5-C5) -> #DIV/0! | V5: =1/F5*K5 -> #DIV/0!
N7: =1/3*PI()*C4*(S4^2+S4*Q4+Q4^2) -> 0 | O7: https://www.omnicalculator.com/math/truncated-cone-volume
N8: volume for truncated circular cone
B9: Circumference of ellipse: | I9: Volume of truncated elliptical cone
M16: sloped surface area | N16: {=IF(ISBLANK('Reservoir Design'!G16),"blank",IF('Reservoir Design'!G16:H16='SA+V calculation'!B4,'SA+V calculation'!M4,'SA+V calculation'!M5))} -> blank
M17: bottom surface area | N17: {=IF(ISBLANK('Reservoir Design'!G16),"blank",IF('Reservoir Design'!G16:H16='SA+V calculation'!B4,'SA+V calculation'!N4,'SA+V calculation'!N5))} -> blank
M18: total surface area | N18: {=IF(ISBLANK('Reservoir Design'!G16),"blank",IF(B4='Reservoir Design'!G16:H16,SUM(M4:N4),SUM(M5:N5)))} -> blank
M19: total volume | N19: {=IF('Reservoir Design'!G16:H16='SA+V calculation'!B4,'SA+V calculation'!O4,'SA+V calculation'!O5)} -> #DIV/0! | O19: #DIV/0!
B25: Source: https://www.omnicalculator.com/math/ellipse-circumference
I35: From Mustafa
B38: From Report Section 7.3.3 (Oval-shaped Reservoir: Variable Side Slope) - 20241119
B39: R_b | C39: ='Reservoir Design'!G18/2 -> 0 | E39: S_bot | F39: =PI()*C39*C40 -> 0
B40: r_b | C40: ='Reservoir Design'!G19/2 -> 0 | E40: S_lat_res | F40: =1/2*PI()*($C$41*SQRT($C$42^2+($C$44+$C$40/$C$43)^2)+$C$42*SQRT($C$41^2+($C$44+$C$40/$C$43)^2)-$C$39*SQRT($C$40^2+($C$44+$C$40/$C$43)^2)-$C$40*SQRT($C$39^2+($C$44+$C$40/$C$43)^2)) -> #DIV/0! | G40: =(F40-M4)/M4 -> #DIV/0! | H40: *this assumes a variable side slope such that long axis is larger, hence larger surface area
B41: R_t | C41: =C39+C39/C40*C43*C44 -> #DIV/0!
B42: r_t | C42: =C40+C43*C44 -> 0
B43: m | C43: ='Reservoir Design'!G20 -> 0
B44: H | C44: ='Reservoir Design'!G17 -> 0
B46: R_t_alternate | C46: =C39+C43*C44 -> 0 | E46: S_lat_res_alternate | F46: =1/2*PI()*($C$46*SQRT($C$42^2+($C$44+$C$40/$C$43)^2)+$C$42*SQRT($C$46^2+($C$44+$C$40/$C$43)^2)-$C$39*SQRT($C$40^2+($C$44+$C$40/$C$43)^2)-$C$40*SQRT($C$39^2+($C$44+$C$40/$C$43)^2)) -> #DIV/0! | G46: =(F46-M4)/M4 -> #DIV/0! | H46: *this assumes the same equation, but with R_t having the same side slope

Sheet Mustafa geometry
C1: Drainage System - Rectangular | H1: Drainage System - Elliptical
D3: bottom width | E3: ='Reservoir Design'!G19 -> 0 | F3: ft | I3: semi-minor axis | J3: ='Reservoir Design'!G19/2 -> 0 | K3: ft
D4: bottom length | E4: ='Reservoir Design'!G18 -> 0 | F4: ft | I4: semi-major axis | J4: ='Reservoir Design'!G18/2 -> 0 | K4: ft
D5: spacing | E5: ='Liner System Design'!H108 -> 0 | F5: ft | I5: spacing | J5: ='Liner System Design'!H108 -> 0 | K5: ft
D7: number of drainage pipes | E7: =ROUNDDOWN(E3/E5,0)+1 -> #DIV/0! | I7: number of drainage pipes | J7: =ROUNDDOWN(2*J3/J5,0)+1 -> #DIV/0! | K7: 1 | L7: 2 | M7: 3 | N7: 4 | O7: 5 | P7: 6 | Q7: 7 | R7: 8 | S7: 9 | T7: 10 | U7: 11 | V7: 12 | W7: 13 | X7: 14 | Y7: 15 | Z7: 16 | AA7: 17 | AB7: 18 | AC7: 19 | AD7: 20 | AE7: 21 | AF7: 22 | AG7: 23 | AH7: 24 | AI7: 25 | AJ7: 26 | AK7: 27 | AL7: 28 | AM7: 29 | AN7: 30 | AO7: 31 | AP7: 32 | AQ7: 33 | AR7: 34 | AS7: 35 | AT7: 36 | AU7: 37 | AV7: 38 | AW7: 39 | AX7: 40 | AY7: 41 | AZ7: 42 | BA7: 43 | BB7: 44 | BC7: 45 | BD7: 46 | BE7: 47 | BF7: 48 | BG7: 49 | BH7: 50
D8: individual drainage pipe length | E8: =E4-2*E5 -> 0 | F8: ft | I8: y_i | K8: =IF(K7<=$J$7,-$J$3+(K7-1)*$J$5,0) -> #DIV/0! | L8: =IF(L7<=$J$7,-$J$3+(L7-1)*$J$5,0) -> #DIV/0! | M8: =IF(M7<=$J$7,-$J$3+(M7-1)*$J$5,0) -> #DIV/0! | N8: =IF(N7<=$J$7,-$J$3+(N7-1)*$J$5,0) -> #DIV/0! | O8: =IF(O7<=$J$7,-$J$3+(O7-1)*$J$5,0) -> #DIV/0! | P8: =IF(P7<=$J$7,-$J$3+(P7-1)*$J$5,0) -> #DIV/0! | Q8: =IF(Q7<=$J$7,-$J$3+(Q7-1)*$J$5,0) -> #DIV/0! | R8: =IF(R7<=$J$7,-$J$3+(R7-1)*$J$5,0) -> #DIV/0! | ... BH8: =IF(BH7<=$J$7,-$J$3+(BH7-1)*$J$5,0) -> #DIV/0!
D9: total drainage pipe length | E9: =E7*E8 -> #DIV/0! | F9: ft | I9: x_i | K9: =IF(K7<=$J$7,$J$4*SQRT(1-K8^2/$J$3^2),0) -> #DIV/0! | L9: =IF(L7<=$J$7,$J$4*SQRT(1-L8^2/$J$3^2),0) -> #DIV/0! | M9: =IF(M7<=$J$7,$J$4*SQRT(1-M8^2/$J$3^2),0) -> #DIV/0! | N9: =IF(N7<=$J$7,$J$4*SQRT(1-N8^2/$J$3^2),0) -> #DIV/0! | O9: =IF(O7<=$J$7,$J$4*SQRT(1-O8^2/$J$3^2),0) -> #DIV/0! | P9: =IF(P7<=$J$7,$J$4*SQRT(1-P8^2/$J$3^2),0) -> #DIV/0! | Q9: =IF(Q7<=$J$7,$J$4*SQRT(1-Q8^2/$J$3^2),0) -> #DIV/0! | R9: =IF(R7<=$J$7,$J$4*SQRT(1-R8^2/$J$3^2),0) -> #DIV/0! | ... BH9: =IF(BH7<=$J$7,$J$4*SQRT(1-BH8^2/$J$3^2),0) -> #DIV/0!
D10: total collector pipe length | E10: =E3-2*E5 -> 0 | F10: ft | I10: L_p_i | K10: =2*K9 -> #DIV/0! | L10: =2*L9 -> #DIV/0! | M10: =2*M9 -> #DIV/0! | N10: =2*N9 -> #DIV/0! | O10: =2*O9 -> #DIV/0! | P10: =2*P9 -> #DIV/0! | Q10: =2*Q9 -> #DIV/0! | R10: =2*R9 -> #DIV/0! | ... BH10: =2*BH9 -> #DIV/0!
I11: total drainage pipe length | J11: =SUM(K10:BH10) -> #DIV/0! | K11: ft
I12: total collector pipe length | J12: =2*J3-2*J5 -> 0 | K12: ft

Sheet Cost lookup
B2: Geomembrane (2024$) | J2: Manufacturer | K2: Material | L2: Texture | M2: Thickness | N2: Unit | O2: Price [USD] | P2: Installation Cost [USD] | Q2: (Roll) Dimensions | R2: total cost [USD] | S2: note | T2: freight cost [USD]
E3: Material | F3: Install | G3: Total | J3: SKAPS | K3: HDPE | L3: smooth | M3: 40 mil | N3: sqft | O3: 0.21
B4: HDPE | C4: 60 | D4: =B4&C4 -> HDPE60 | E4: =AVERAGE(O4,O12) -> 0.326 | F4: 0.235 | G4: =SUM(E4:F4) -> 0.561 | H4: $/ft2 | J4: SKAPS | K4: HDPE | L4: smooth | M4: 60 mil | N4: sqft | O4: 0.315
B5: HDPE | C5: 80 | D5: =B5&C5 -> HDPE80 | E5: =AVERAGE(O5,O13) -> 0.4275 | F5: 0.235 | G5: =SUM(E5:F5) -> 0.6625 | H5: $/ft2 | J5: SKAPS | K5: HDPE | L5: smooth | M5: 80 mil | N5: sqft | O5: 0.42
B6: HDPE | C6: 100 | D6: =B6&C6 -> HDPE100 | E6: =AVERAGE(O6,O14) -> 0.5375 | F6: 0.235 | G6: =SUM(E6:F6) -> 0.7725 | H6: $/ft2 | J6: SKAPS | K6: HDPE | L6: smooth | M6: 100 mil | N6: sqft | O6: 0.525
B7: LLDPE | C7: 60 | D7: =B7&C7 -> LLDPE60 | E7: =AVERAGE(O8,O16) -> 0.326 | F7: 0.235 | G7: =SUM(E7:F7) -> 0.561 | H7: $/ft2 | J7: SKAPS | K7: LLDPE | L7: smooth | M7: 40 mil | N7: sqft | O7: 0.21
B8: LLDPE | C8: 80 | D8: =B8&C8 -> LLDPE80 | E8: =AVERAGE(O9,O17) -> 0.4275 | F8: 0.235 | G8: =SUM(E8:F8) -> 0.6625 | H8: $/ft2 | J8: SKAPS | K8: LLDPE | L8: smooth | M8: 60 mil | N8: sqft | O8: 0.315
B9: LLDPE | C9: 100 | D9: =B9&C9 -> LLDPE100 | E9: =AVERAGE(O10,O18) -> 0.5375 | F9: 0.235 | G9: =SUM(E9:F9) -> 0.7725 | H9: $/ft2 | J9: SKAPS | K9: LLDPE | L9: smooth | M9: 80 mil | N9: sqft | O9: 0.42
B10: PVC | C10: 60 | D10: =B10&C10 -> PVC60 | G10: =R26 -> 1.75 | H10: $/ft2 | J10: SKAPS | K10: LLDPE | L10: smooth | M10: 100 mil | N10: sqft | O10: 0.525
B11: PVC | C11: 80 | D11: =B11&C11 -> PVC80 | G11: =R29 -> 2.25 | H11: $/ft2 | J11: SKAPS | K11: HDPE | L11: textured | M11: 40 mil | N11: sqft | O11: 0.235
B12: PVC | C12: 100 | D12: =B12&C12 -> PVC100 | G12: 2.75 | H12: $/ft2 | J12: SKAPS | K12: HDPE | L12: textured | M12: 60 mil | N12: sqft | O12: 0.337
J13: SKAPS | K13: HDPE | L13: textured | M13: 80 mil | N13: sqft | O13: 0.435
J14: SKAPS | K14: HDPE | L14: textured | M14: 100 mil | N14: sqft | O14: 0.55
B15: geotextile (based on Project 1, 2024$) | J15: SKAPS | K15: LLDPE | L15: textured | M15: 40 mil | N15: sqft | O15: 0.235
B16: 500 | C16: g/m2 | D16: ='Cost lookup (old)'!D16*1.28 -> 0.512 | E16: $/ft2 | F16: =SLOPE(D16:D17,B16:B17) -> 0.00128 | J16: SKAPS | K16: LLDPE | L16: textured | M16: 60 mil | N16: sqft | O16: 0.337
B17: 700 | C17: g/m2 | D17: ='Cost lookup (old)'!D17*1.28 -> 0.768 | E17: $/ft2 | F17: =INTERCEPT(D16:D17,B16:B17) -> -0.128 | J17: SKAPS | K17: LLDPE | L17: textured | M17: 80 mil | N17: sqft | O17: 0.435
J18: SKAPS | K18: LLDPE | L18: textured | M18: 100 mil | N18: sqft | O18: 0.55
J19: agru | K19: HDPE | L19: textured | M19: 40 mil | N19: sqft | O19: 0.284 | P19: 0.22-0.25 | Q19: 23x750 ft | R19: 0.504-0.534 | S19: excl. freight | T19: 0.008 | U19: =$T19/0.504 -> 0.015873016 | V19: =$T19/0.53 -> 0.01509434
B20: drainage & leak detection (2024$) | J20: agru | K20: HDPE | L20: textured | M20: 60 mil | N20: sqft | O20: 0.42 | P20: 0.22-0.25 | Q20: 23x540 ft | R20: 0.64-0.67 | S20: excl. freight | T20: 0.011 | U20: =$T20/0.64 -> 0.0171875 | V20: =T20/0.67 -> 0.01641791
B21: geospacer | C21: ='Cost lookup (old)'!C21*1.28 -> 0.4352 | D21: $/ft2 | J21: agru | K21: HDPE | L21: textured | M21: 80 mil | N21: sqft | O21: 0.57 | P21: 0.22-0.25 | Q21: 23x410 ft | R21: 0.79-0.82 | S21: excl. freight | T21: 0.014 | U21: =$T21/0.79 -> 0.017721519 | V21: =T21/0.82 -> 0.017073171
B22: Perimeter Drain Pipe 10in | C22: ='Cost lookup (old)'!C22*1.28 -> 106.24 | D22: $/ft | J22: agru | K22: LLDPE | L22: textured | M22: 40 mil | N22: sqft | O22: 0.29 | P22: 0.22-0.25 | Q22: 23x750 ft | R22: 0.51-0.54 | S22: excl. freight | T22: 0.008 | U22: =$T22/0.51 -> 0.015686275 | V22: =T22/0.54 -> 0.014814815
B23: Collector Drain Pipes 24in | C23: ='Cost lookup (old)'!C23*1.28 -> 160 | D23: $/ft | J23: agru | K23: LLDPE | L23: textured | M23: 60 mil | N23: sqft | O23: 0.42 | P23: 0.22-0.25 | Q23: 23x540 ft | R23: 0.64-0.67 | S23: excl. freight | T23: 0.011 | U23: =$T23/0.64 -> 0.0171875 | V23: =T23/0.67 -> 0.01641791
J24: agru | K24: LLDPE | L24: textured | M24: 80 mil | N24: sqft | O24: 0.57 | P24: 0.22-0.25 | Q24: 23x410 ft | R24: 0.79-0.82 | S24: excl. freight | T24: 0.014 | U24: =$T24/0.79 -> 0.017721519 | V24: =T24/0.82 -> 0.017073171
B25: cover layer (based on Project 1, 2024$) | J25: Layfield | K25: CSPE | M25: 60 mil | N25: sqft | R25: 4 | S25: incl. freight, non-prevailing wages, anchor trench by others, site ready for install
B26: bottom | C26: ='Cost lookup (old)'!C26*1.28 -> 34.56 | D26: $/yd3 | J26: Layfield | K26: PVC | M26: 60 mil | N26: sqft | R26: 1.75 | S26: incl. freight, non-prevailing wages, anchor trench by others, site ready for install
B27: side slope | C27: ='Cost lookup (old)'!C27*1.28 -> 32.958984 | D27: $/yd3 | J27: Layfield | K27: HDPE | M27: 80 mil | N27: sqft | R27: 1.75 | S27: incl. freight, non-prevailing wages, anchor trench by others, site ready for install
K28: PVC | M28: 80 mil | N28: sqft | R28: 2 | S28: Stantec cost estimate 1
K29: PVC | M29: 80 mil | N29: sqft | R29: 2.25 | S29: Stantec cost estimate 3

Sheet Cost lookup (old)
B2: Geomembrane (2024$) | J2: Manufacturer | K2: Material | L2: Texture | M2: Thickness | N2: Unit | O2: Price [USD] | P2: Installation Cost [USD] | Q2: (Roll) Dimensions | R2: total cost [USD] | S2: note | T2: freight cost [USD]
E3: Material | F3: Install | G3: Total | J3: SKAPS | K3: HDPE | L3: smooth | M3: 40 mil | N3: sqft | O3: 0.21
B4: HDPE | C4: 60 | D4: =B4&C4 -> HDPE60 | E4: =AVERAGE(O4,O12) -> 0.326 | F4: 0.235 | G4: =SUM(E4:F4) -> 0.561 | H4: $/ft2 | J4: SKAPS | K4: HDPE | L4: smooth | M4: 60 mil | N4: sqft | O4: 0.315
B5: HDPE | C5: 80 | D5: =B5&C5 -> HDPE80 | E5: =AVERAGE(O5,O13) -> 0.4275 | F5: 0.235 | G5: =SUM(E5:F5) -> 0.6625 | H5: $/ft2 | J5: SKAPS | K5: HDPE | L5: smooth | M5: 80 mil | N5: sqft | O5: 0.42
B6: HDPE | C6: 100 | D6: =B6&C6 -> HDPE100 | E6: =AVERAGE(O6,O14) -> 0.5375 | F6: 0.235 | G6: =SUM(E6:F6) -> 0.7725 | H6: $/ft2 | J6: SKAPS | K6: HDPE | L6: smooth | M6: 100 mil | N6: sqft | O6: 0.525
B7: LLDPE | C7: 60 | D7: =B7&C7 -> LLDPE60 | E7: =AVERAGE(O8,O16) -> 0.326 | F7: 0.235 | G7: =SUM(E7:F7) -> 0.561 | H7: $/ft2 | J7: SKAPS | K7: LLDPE | L7: smooth | M7: 40 mil | N7: sqft | O7: 0.21
B8: LLDPE | C8: 80 | D8: =B8&C8 -> LLDPE80 | E8: =AVERAGE(O9,O17) -> 0.4275 | F8: 0.235 | G8: =SUM(E8:F8) -> 0.6625 | H8: $/ft2 | J8: SKAPS | K8: LLDPE | L8: smooth | M8: 60 mil | N8: sqft | O8: 0.315
B9: LLDPE | C9: 100 | D9: =B9&C9 -> LLDPE100 | E9: =AVERAGE(O10,O18) -> 0.5375 | F9: 0.235 | G9: =SUM(E9:F9) -> 0.7725 | H9: $/ft2 | J9: SKAPS | K9: LLDPE | L9: smooth | M9: 80 mil | N9: sqft | O9: 0.42
B10: PVC | C10: 60 | D10: =B10&C10 -> PVC60 | G10: =R26 -> 1.75 | H10: $/ft2 | J10: SKAPS | K10: LLDPE | L10: smooth | M10: 100 mil | N10: sqft | O10: 0.525
B11: PVC | C11: 80 | D11: =B11&C11 -> PVC80 | G11: =R29 -> 2.25 | H11: $/ft2 | J11: SKAPS | K11: HDPE | L11: textured | M11: 40 mil | N11: sqft | O11: 0.235
B12: PVC | C12: 100 | D12: =B12&C12 -> PVC100 | G12: 2.75 | H12: $/ft2 | J12: SKAPS | K12: HDPE | L12: textured | M12: 60 mil | N12: sqft | O12: 0.337
J13: SKAPS | K13: HDPE | L13: textured | M13: 80 mil | N13: sqft | O13: 0.435
J14: SKAPS | K14: HDPE | L14: textured | M14: 100 mil | N14: sqft | O14: 0.55
B15: geotextile (based on Project 1, 2018$) | J15: SKAPS | K15: LLDPE | L15: textured | M15: 40 mil | N15: sqft | O15: 0.235
B16: 500 | C16: g/m2 | D16: 0.4 | E16: $/ft2 | F16: =SLOPE(D16:D17,B16:B17) -> 0.001 | J16: SKAPS | K16: LLDPE | L16: textured | M16: 60 mil | N16: sqft | O16: 0.337
B17: 700 | C17: g/m2 | D17: 0.6 | E17: $/ft2 | F17: =INTERCEPT(D16:D17,B16:B17) -> -0.1 | J17: SKAPS | K17: LLDPE | L17: textured | M17: 80 mil | N17: sqft | O17: 0.435
J18: SKAPS | K18: LLDPE | L18: textured | M18: 100 mil | N18: sqft | O18: 0.55
J19: agru | K19: HDPE | L19: textured | M19: 40 mil | N19: sqft | O19: 0.284 | P19: 0.22-0.25 | Q19: 23x750 ft | R19: 0.504-0.534 | S19: excl. freight | T19: 0.008
B20: drainage & leak detection (2018$) | J20: agru | K20: HDPE | L20: textured | M20: 60 mil | N20: sqft | O20: 0.42 | P20: 0.22-0.25 | Q20: 23x540 ft | R20: 0.64-0.67 | S20: excl. freight | T20: 0.011
B21: geospacer | C21: 0.34 | D21: $/ft2 | J21: agru | K21: HDPE | L21: textured | M21: 80 mil | N21: sqft | O21: 0.57 | P21: 0.22-0.25 | Q21: 23x410 ft | R21: 0.79-0.82 | S21: excl. freight | T21: 0.014
B22: Perimeter Drain Pipe 10in | C22: 83 | D22: $/ft | J22: agru | K22: LLDPE | L22: textured | M22: 40 mil | N22: sqft | O22: 0.29 | P22: 0.22-0.25 | Q22: 23x750 ft | R22: 0.51-0.54 | S22: excl. freight | T22: 0.008
B23: Collector Drain Pipes 24in | C23: 125 | D23: $/ft | J23: agru | K23: LLDPE | L23: textured | M23: 60 mil | N23: sqft | O23: 0.42 | P23: 0.22-0.25 | Q23: 23x540 ft | R23: 0.64-0.67 | S23: excl. freight | T23: 0.011
J24: agru | K24: LLDPE | L24: textured | M24: 80 mil | N24: sqft | O24: 0.57 | P24: 0.22-0.25 | Q24: 23x410 ft | R24: 0.79-0.82 | S24: excl. freight | T24: 0.014
B25: cover layer (based on Project 1, 2018$) | J25: Layfield | K25: CSPE | M25: 60 mil | N25: sqft | R25: 4 | S25: incl. freight, non-prevailing wages, anchor trench by others, site ready for install
B26: bottom | C26: =27 -> 27 | D26: $/yd3 | J26: Layfield | K26: PVC | M26: 60 mil | N26: sqft | R26: 1.75 | S26: incl. freight, non-prevailing wages, anchor trench by others, site ready for install
B27: side slope | C27: =(27*11.8+25*19.7)/(11.8+19.7) -> 25.749206 | D27: $/yd3 | J27: Layfield | K27: HDPE | M27: 80 mil | N27: sqft | R27: 1.75 | S27: incl. freight, non-prevailing wages, anchor trench by others, site ready for install
K28: PVC | M28: 80 mil | N28: sqft | R28: 2 | S28: Stantec cost estimate 1
K29: PVC | M29: 80 mil | N29: sqft | R29: 2.25 | S29: Stantec cost estimate 3

Sheet Geometry
B4: Required input
B5: Optional input
A6: Rectangle | E6: Oval Constant Side Slope
A7: a | B7: ='Reservoir Design'!G19 -> 0 | C7: ft. | D7: Width of the rectangle-shaped reservoir bottom | E7: ab | F7: ='Reservoir Design'!G18/2 -> 0 | G7: ft. | H7: Semi major axis of the ellipse-shaped reservoir bottom
A8: b | B8: =B7 -> 0 | C8: ft. | D8: Since the reservoir is rectangular, we set b=a | E8: bb | F8: ='Reservoir Design'!G19/2 -> 0 | G8: ft. | H8: Semi minor axis of the ellipse-shaped reservoir bottom
A9: c | B9: ='Reservoir Design'!G18 -> 0 | C9: ft. | D9: Length of the trapezoid-shaped reservoir bottom
A10: m | B10: ='Reservoir Design'!G20 -> 0 | C10: (-) | D10: Side slope (m unit hoirzontal run for 1 unit vertical rise) | E10: m | F10: ='Reservoir Design'!G20 -> 0 | G10: (-) | H10: Side slope (m unit hoirzontal run for 1 unit vertical rise)
A11: H | B11: ='Reservoir Design'!G17 -> 0 | C11: ft. | D11: Height of the reservoir from the bottom to the top edge | E11: H | F11: ='Reservoir Design'!G17 -> 0 | G11: ft. | H11: Height of the reservoir from the bottom to the top edge
A12: xt | B12: ='Liner System Design'!H21 -> 0 | C12: ft. | D12: Distance from top edge of the reservoir to the anchor trench | E12: xt | F12: ='Liner System Design'!H21 -> 0 | G12: ft. | H12: Distance from top edge of the reservoir to the anchor trench
A13: dt | B13: ='Liner System Design'!H22 -> 0 | C13: ft. | D13: Depth of the anchor trench | E13: dt | F13: ='Liner System Design'!H22 -> 0 | G13: ft. | H13: Depth of the anchor trench
A14: wt | B14: ='Liner System Design'!H23 -> 0 | C14: ft. | D14: Width of the anchor trench | E14: wt | F14: ='Liner System Design'!H23 -> 0 | G14: ft. | H14: Width of the anchor trench
A15: Δyp | B15: ='Liner System Design'!H108 -> 0 | C15: ft. | D15: Distance between drainage pipes | E15: Δyp | F15: ='Liner System Design'!H108 -> 0 | G15: ft. | H15: Distance between drainage pipes
A17: Geomembrane surface area | E17: Geomembrane surface area
A18: Sbot | B18: =($B$7+$B$8)*$B$9/2 -> 0 | C18: ft2 | D18: Surface area for the geomembrane lining on the reservoir bottom | E18: Sbot | F18: =PI()*$F$7*$F$8 -> 0 | G18: ft2 | H18: Surface area for the geomembrane lining on the reservoir bottom
A19: Slat_ext | B19: =0.5*($B$11*SQRT($B$10^2+1)+SUM($B$12:$B$14))*(B7+B8+SQRT($B$7^2-2*$B$7*$B$8+$B$8^2+4*$B$9^2)+2*(2*(($B$7+$B$8)/4+2*$B$10*(B11+SUM(B12:B14)/SQRT(B10^2+1))*$B$9/SQRT($B$7^2-2*$B$7*$B$8+$B$8^2+4*$B$9^2))+($B$9+2*$B$10*(B11+SUM(B12:B14)/SQRT(B10^2+1)))*SQRT($B$7^2-2*$B$7*$B$8+$B$8^2+4*$B$9^2)/(2*$B$9))) -> #DIV/0! | C19: ft2 | D19: Surface area for the geomembrane on the lateral walls with extension into the anchor trench | E19: Slat_ext | F19: =0.5*($F$11+SUM($F$12:$F$14)/SQRT($F$10^2+1))*SQRT($F$10^2+1)*((PI()*(3*($F$7+$F$8)-SQRT((3*$F$7+$F$8)*($F$7+3*$F$8))))+(PI()*(3*(($F$7+$F$10*($F$11+SUM($F$12:$F$14)/SQRT($F$10^2+1)))+($F$8+$F$10*($F$11+SUM($F$12:$F$14)/SQRT($F$10^2+1))))-SQRT((3*($F$7+$F$10*($F$11+SUM($F$12:$F$14)/SQRT($F$10^2+1)))+($F$8+$F$10*($F$11+SUM($F$12:$F$14)/SQRT($F$10^2+1))))*(($F$7+$F$10*($F$11+SUM($F$12:$F$14)/SQRT($F$10^2+1)))+3*($F$8+$F$10*($F$11+SUM($F$12:$F$14)/SQRT($F$10^2+1)))))))) -> 0 | G19: ft2 | H19: Surface area for the geomembrane on the lateral walls with extension into the anchor trench
A20: Slat | B20: =0.5*($B$11*SQRT($B$10^2+1))*($B$7+$B$8+SQRT($B$7^2-2*$B$7*$B$8+$B$8^2+4*$B$9^2)+2*(2*(($B$7+$B$8)/4+2*$B$10*$B$11*$B$9/SQRT($B$7^2-2*$B$7*$B$8+$B$8^2+4*$B$9^2))+($B$9+2*$B$10*$B$11)*SQRT($B$7^2-2*$B$7*$B$8+$B$8^2+4*$B$9^2)/(2*$B$9))) -> #DIV/0! | C20: ft2 | D20: Surface area for the geomembrane lining of lateral walls | E20: Slat | F20: =0.5*$F$11*SQRT($F$10^2+1)*((PI()*(3*($F$7+$F$8)-SQRT((3*$F$7+$F$8)*($F$7+3*$F$8))))+(PI()*(3*(($F$7+$F$10*$F$11)+($F$8+$F$10*$F$11))-SQRT((3*($F$7+$F$10*$F$11)+($F$8+$F$10*$F$11))*(($F$7+$F$10*$F$11)+3*($F$8+$F$10*$F$11)))))) -> 0 | G20: ft2 | H20: Surface area for the geomembrane lining of lateral walls
A21: Sext | B21: =B19-B20 -> #DIV/0! | C21: ft2 | D21: Surface area for the geomembrane lining needed for anchoring | E21: Sext | F21: =F19-F20 -> 0 | G21: ft2 | H21: Surface area for the geomembrane lining needed for anchoring
A22: Stot_geo | B22: =B18+B19 -> #DIV/0! | C22: ft2 | D22: Total surface area of gomembrane lining | E22: Stot_geo | F22: =F18+F19 -> 0 | G22: ft2 | H22: Total surface area of gomembrane lining
A23: Volumes | E23: Volumes
A24: VH | B24: =(1/3)*$B$11*((($B$7+$B$8)*$B$9/2)+2*(($B$7+$B$8)/4+2*$B$10*B11*$B$9/SQRT($B$7^2-2*$B$7*$B$8+$B$8^2+4*$B$9^2))*($B$9+2*$B$10*B11)+SQRT((($B$7+$B$8)*$B$9/2)*2*(($B$7+$B$8)/4+2*$B$10*B11*$B$9/SQRT($B$7^2-2*$B$7*$B$8+$B$8^2+4*$B$9^2))*($B$9+2*$B$10*B11))) -> #DIV/0! | C24: ft3 | D24: Volume of the reservoir from the bottom to the bottom to the top edge | E24: VH | F24: =$F$11*((PI()*$F$7*$F$8)+(PI()*($F$7+$F$10*$F$11)*($F$8+$F$10*$F$11))+SQRT((PI()*$F$7*$F$8)*(PI()*($F$7+$F$10*$F$11)*($F$8+$F$10*$F$11))))/3 -> 0 | G24: ft3 | H24: Volume of the reservoir from the bottom to the bottom to the top edge
A25: Drainage Pipes | E25: Drainage Pipes
A26: Lp_dra | B26: =((ROUND($B$8/$B$15,0)+1)+(ROUND($B$7/$B$15,0)+1))*$B$9/2 -> #DIV/0! | C26: ft. | D26: Total length of drainage pipes | E26: Lp_dra | F26: {=SUMPRODUCT(2*($F$7-$F$15)*SQRT(1-((ROW(INDIRECT("1:"&ROUND(2*($F$8-$F$15)/F15,0)))-1)*2*($F$8-$F$15)/ROUND(2*($F$8-$F$15)/F15,0)-($F$8-$F$15))^2/($F$8-$F$15)^2))} -> #DIV/0! | G26: ft. | H26: Total length of drainage pipes
A27: Lp_col | B27: =$B$8 -> 0 | C27: ft. | D27: Total length of the collector pipe | E27: Lp_col | F27: =0.5*PI()*(3*(($F$7-$F$15)+($F$8-$F$15))-SQRT((3*($F$7-$F$15)+($F$8-$F$15))*(($F$7-$F$15)+3*($F$8-$F$15)))) -> 0 | G27: ft. | H27: Total length of the collector pipe
A28: Lp_tot | B28: =B26+B27 -> #DIV/0! | C28: ft. | D28: Total length of drainage and collector pipes | E28: Lp_tot | F28: =F26+F27 -> #DIV/0! | G28: ft. | H28: Total length of drainage and collector pipes
A30: Sbot | B30: =IF('Reservoir Design'!$G$16="rectangular",Geometry!B18,IF('Reservoir Design'!$G$16="elliptical/circular",Geometry!F18,"error")) -> error | C30: ft2 | D30: Surface area for the geomembrane lining on the reservoir bottom
A31: Slat | B31: =IF('Reservoir Design'!$G$16="rectangular",Geometry!B20,IF('Reservoir Design'!$G$16="elliptical/circular",Geometry!F20,"error")) -> error | C31: ft2 | D31: Surface area for the geomembrane lining of lateral walls
A32: Sext | B32: =IF('Reservoir Design'!$G$16="rectangular",Geometry!B21,IF('Reservoir Design'!$G$16="elliptical/circular",Geometry!F21,"error")) -> error | C32: ft2 | D32: Surface area for the geomembrane lining needed for anchoring
A33: Lp_dra | B33: =IF('Reservoir Design'!$G$16="rectangular",Geometry!B26,IF('Reservoir Design'!$G$16="elliptical/circular",Geometry!F26,"error")) -> error | C33: ft. | D33: Total length of drainage pipes
A34: Lp_col | B34: =IF('Reservoir Design'!$G$16="rectangular",Geometry!B27,IF('Reservoir Design'!$G$16="elliptical/circular",Geometry!F27,"error")) -> error | C34: ft. | D34: Total length of the collector pipe

Sheet (OLD) bottom seam length
A1: geomembrane bottom seam length | E1: =IF('Reservoir Design'!G16="elliptical/circular",'(OLD) bottom seam length'!L7,IF('Reservoir Design'!G16="rectangular",'(OLD) bottom seam length'!P8,IF('Reservoir Design'!G16="non-standard",'(OLD) bottom seam length'!AD8,"error"))) -> error
A3: elliptical/circular | N3: rectangular | S3: non-standard
T4: **calculation assumes a 2:1 elliptical geometry
B5: bottom length | C5: ='Reservoir Design'!$G$18 -> 0 | D5: ft | O5: bottom length | P5: ='Reservoir Design'!$G$18 -> 0 | Q5: ft | T5: Liner system bottom surface area | U5: =IF('Reservoir Design'!G16="non-standard",#REF!,"error") -> error | V5: ft2
B6: bottom width | C6: ='Reservoir Design'!$G$19 -> 0 | D6: ft | O6: bottom width | P6: ='Reservoir Design'!$G$19 -> 0 | Q6: ft | T6: bottom length | U6: =2*U7 -> #VALUE! | V6: ft
B7: roll width | C7: 20 | D7: ft | K7: geomembrane bottom seam length | L7: =SUM(C8:L8) -> 0 | M7: ft | O7: roll width | P7: 20 | Q7: ft | T7: bottom width | U7: =2*SQRT(U5/2/PI()) -> #VALUE! | V7: ft
C8: =SUMIF(C11:C50011,">="&0) -> 0 | D8: ft | F8: =SUMIF(F11:F50011,">="&0) -> 0 | G8: ft | I8: =SUMIF(I11:I50011,">="&0) -> 0 | J8: ft | L8: =SUMIF(L11:L50011,">="&0) -> 0 | M8: ft | O8: geomembrane bottom seam length | P8: =SUMIF(P11:P50011,">="&0) -> 0 | Q8: ft | T8: roll width | U8: 20 | V8: ft | AC8: geomembrane bottom seam length | AD8: =SUM(U9:AD9) -> 0 | AE8: ft
B9: Quadrant 1 | E9: Quadrant 2 | H9: Quadrant 3 | K9: Quadrant 4 | U9: =SUMIF(U12:U50012,">="&0) -> 0 | V9: ft | X9: =SUMIF(X12:X50012,">="&0) -> 0 | Y9: ft | AA9: =SUMIF(AA12:AA50012,">="&0) -> 0 | AB9: ft | AD9: =SUMIF(AD12:AD50012,">="&0) -> 0 | AE9: ft
B10: x | C10: y | E10: x | F10: y | H10: x | I10: y | K10: x | L10: y | O10: x | P10: y | T10: Quadrant 1 | W10: Quadrant 2 | Z10: Quadrant 3 | AC10: Quadrant 4
B11: 0 | C11: =SQRT(($C$5/2)^2-($C$5/2)^2*0^2/($C$6/2)^2) -> #DIV/0! | E11: 0 | F11: 0 | H11: 0 | I11: =SQRT(($C$5/2)^2-($C$5/2)^2*0^2/($C$6/2)^2) -> #DIV/0! | K11: 0 | L11: 0 | O11: 0 | P11: =IF(O11<=$P$6,$P$5) -> 0 | T11: x | U11: y | W11: x | X11: y | Z11: x | AA11: y | AC11: x | AD11: y
B12: =B11+$C$7 -> 20 | C12: =SQRT(($C$5/2)^2-($C$5/2)^2*'(OLD) bottom seam length'!B12^2/($C$6/2)^2) -> #DIV/0! | E12: =E11+$C$7 -> 20 | F12: =SQRT(($C$5/2)^2-($C$5/2)^2*'(OLD) bottom seam length'!E12^2/($C$6/2)^2) -> #DIV/0! | H12: =H11+$C$7 -> 20 | I12: =SQRT(($C$5/2)^2-($C$5/2)^2*'(OLD) bottom seam length'!H12^2/($C$6/2)^2) -> #DIV/0! | K12: =K11+$C$7 -> 20 | L12: =SQRT(($C$5/2)^2-($C$5/2)^2*'(OLD) bottom seam length'!K12^2/($C$6/2)^2) -> #DIV/0! | O12: =O11+$C$7 -> 20 | P12: =IF(O12<=$P$6,$P$5) -> FALSE | T12: 0 | U12: =SQRT(($U$6/2)^2-($U$6/2)^2*0^2/($U$7/2)^2) -> #VALUE! | W12: 0 | X12: 0 | Z12: 0 | AA12: =SQRT(($U$6/2)^2-($U$6/2)^2*0^2/($U$7/2)^2) -> #VALUE! | AC12: 0 | AD12: 0
B13: =B12+$C$7 -> 40 | C13: =SQRT(($C$5/2)^2-($C$5/2)^2*'(OLD) bottom seam length'!B13^2/($C$6/2)^2) -> #DIV/0! | E13: =E12+$C$7 -> 40 | F13: =SQRT(($C$5/2)^2-($C$5/2)^2*'(OLD) bottom seam length'!E13^2/($C$6/2)^2) -> #DIV/0! | H13: =H12+$C$7 -> 40 | I13: =SQRT(($C$5/2)^2-($C$5/2)^2*'(OLD) bottom seam length'!H13^2/($C$6/2)^2) -> #DIV/0! | K13: =K12+$C$7 -> 40 | L13: =SQRT(($C$5/2)^2-($C$5/2)^2*'(OLD) bottom seam length'!K13^2/($C$6/2)^2) -> #DIV/0! | O13: =O12+$C$7 -> 40 | P13: =IF(O13<=$P$6,$P$5) -> FALSE | T13: =T12+$C$7 -> 20 | U13: =SQRT(($U$6/2)^2-($U$6/2)^2*'(OLD) bottom seam length'!T13^2/($U$7/2)^2) -> #VALUE! | W13: =W12+$C$7 -> 20 | X13: =SQRT(($U$6/2)^2-($U$6/2)^2*'(OLD) bottom seam length'!W13^2/($U$7/2)^2) -> #VALUE! | Z13: =Z12+$C$7 -> 20 | AA13: =SQRT(($U$6/2)^2-($U$6/2)^2*'(OLD) bottom seam length'!Z13^2/($U$7/2)^2) -> #VALUE! | AC13: =AC12+$C$7 -> 20 | AD13: =SQRT(($U$6/2)^2-($U$6/2)^2*'(OLD) bottom seam length'!AC13^2/($U$7/2)^2) -> #VALUE!
B14: =B13+$C$7 -> 60 | C14: =SQRT(($C$5/2)^2-($C$5/2)^2*'(OLD) bottom seam length'!B14^2/($C$6/2)^2) -> #DIV/0! | E14: =E13+$C$7 -> 60 | F14: =SQRT(($C$5/2)^2-($C$5/2)^2*'(OLD) bottom seam length'!E14^2/($C$6/2)^2) -> #DIV/0! | H14: =H13+$C$7 -> 60 | I14: =SQRT(($C$5/2)^2-($C$5/2)^2*'(OLD) bottom seam length'!H14^2/($C$6/2)^2) -> #DIV/0! | K14: =K13+$C$7 -> 60 | L14: =SQRT(($C$5/2)^2-($C$5/2)^2*'(OLD) bottom seam length'!K14^2/($C$6/2)^2) -> #DIV/0! | O14: =O13+$C$7 -> 60 | P14: =IF(O14<=$P$6,$P$5) -> FALSE | T14: =T13+$C$7 -> 40 | U14: =SQRT(($U$6/2)^2-($U$6/2)^2*'(OLD) bottom seam length'!T14^2/($U$7/2)^2) -> #VALUE! | W14: =W13+$C$7 -> 40 | X14: =SQRT(($U$6/2)^2-($U$6/2)^2*'(OLD) bottom seam length'!W14^2/($U$7/2)^2) -> #VALUE! | Z14: =Z13+$C$7 -> 40 | AA14: =SQRT(($U$6/2)^2-($U$6/2)^2*'(OLD) bottom seam length'!Z14^2/($U$7/2)^2) -> #VALUE! | AC14: =AC13+$C$7 -> 40 | AD14: =SQRT(($U$6/2)^2-($U$6/2)^2*'(OLD) bottom seam length'!AC14^2/($U$7/2)^2) -> #VALUE!
B15: =B14+$C$7 -> 80 | C15: =SQRT(($C$5/2)^2-($C$5/2)^2*'(OLD) bottom seam length'!B15^2/($C$6/2)^2) -> #DIV/0! | E15: =E14+$C$7 -> 80 | F15: =SQRT(($C$5/2)^2-($C$5/2)^2*'(OLD) bottom seam length'!E15^2/($C$6/2)^2) -> #DIV/0! | H15: =H14+$C$7 -> 80 | I15: =SQRT(($C$5/2)^2-($C$5/2)^2*'(OLD) bottom seam length'!H15^2/($C$6/2)^2) -> #DIV/0! | K15: =K14+$C$7 -> 80 | L15: =SQRT(($C$5/2)^2-($C$5/2)^2*'(OLD) bottom seam length'!K15^2/($C$6/2)^2) -> #DIV/0! | O15: =O14+$C$7 -> 80 | P15: =IF(O15<=$P$6,$P$5) -> FALSE | T15: =T14+$C$7 -> 60 | U15: =SQRT(($U$6/2)^2-($U$6/2)^2*'(OLD) bottom seam length'!T15^2/($U$7/2)^2) -> #VALUE! | W15: =W14+$C$7 -> 60 | X15: =SQRT(($U$6/2)^2-($U$6/2)^2*'(OLD) bottom seam length'!W15^2/($U$7/2)^2) -> #VALUE! | Z15: =Z14+$C$7 -> 60 | AA15: =SQRT(($U$6/2)^2-($U$6/2)^2*'(OLD) bottom seam length'!Z15^2/($U$7/2)^2) -> #VALUE! | AC15: =AC14+$C$7 -> 60 | AD15: =SQRT(($U$6/2)^2-($U$6/2)^2*'(OLD) bottom seam length'!AC15^2/($U$7/2)^2) -> #VALUE!
B16: =B15+$C$7 -> 100 | C16: =SQRT(($C$5/2)^2-($C$5/2)^2*'(OLD) bottom seam length'!B16^2/($C$6/2)^2) -> #DIV/0! | E16: =E15+$C$7 -> 100 | F16: =SQRT(($C$5/2)^2-($C$5/2)^2*'(OLD) bottom seam length'!E16^2/($C$6/2)^2) -> #DIV/0! | H16: =H15+$C$7 -> 100 | I16: =SQRT(($C$5/2)^2-($C$5/2)^2*'(OLD) bottom seam length'!H16^2/($C$6/2)^2) -> #DIV/0! | K16: =K15+$C$7 -> 100 | L16: =SQRT(($C$5/2)^2-($C$5/2)^2*'(OLD) bottom seam length'!K16^2/($C$6/2)^2) -> #DIV/0! | O16: =O15+$C$7 -> 100 | P16: =IF(O16<=$P$6,$P$5) -> FALSE | T16: =T15+$C$7 -> 80 | U16: =SQRT(($U$6/2)^2-($U$6/2)^2*'(OLD) bottom seam length'!T16^2/($U$7/2)^2) -> #VALUE! | W16: =W15+$C$7 -> 80 | X16: =SQRT(($U$6/2)^2-($U$6/2)^2*'(OLD) bottom seam length'!W16^2/($U$7/2)^2) -> #VALUE! | Z16: =Z15+$C$7 -> 80 | AA16: =SQRT(($U$6/2)^2-($U$6/2)^2*'(OLD) bottom seam length'!Z16^2/($U$7/2)^2) -> #VALUE! | AC16: =AC15+$C$7 -> 80 | AD16: =SQRT(($U$6/2)^2-($U$6/2)^2*'(OLD) bottom seam length'!AC16^2/($U$7/2)^2) -> #VALUE!
B17: =B16+$C$7 -> 120 | C17: =SQRT(($C$5/2)^2-($C$5/2)^2*'(OLD) bottom seam length'!B17^2/($C$6/2)^2) -> #DIV/0! | E17: =E16+$C$7 -> 120 | F17: =SQRT(($C$5/2)^2-($C$5/2)^2*'(OLD) bottom seam length'!E17^2/($C$6/2)^2) -> #DIV/0! | H17: =H16+$C$7 -> 120 | I17: =SQRT(($C$5/2)^2-($C$5/2)^2*'(OLD) bottom seam length'!H17^2/($C$6/2)^2) -> #DIV/0! | K17: =K16+$C$7 -> 120 | L17: =SQRT(($C$5/2)^2-($C$5/2)^2*'(OLD) bottom seam length'!K17^2/($C$6/2)^2) -> #DIV/0! | O17: =O16+$C$7 -> 120 | P17: =IF(O17<=$P$6,$P$5) -> FALSE | T17: =T16+$C$7 -> 100 | U17: =SQRT(($U$6/2)^2-($U$6/2)^2*'(OLD) bottom seam length'!T17^2/($U$7/2)^2) -> #VALUE! | W17: =W16+$C$7 -> 100 | X17: =SQRT(($U$6/2)^2-($U$6/2)^2*'(OLD) bottom seam length'!W17^2/($U$7/2)^2) -> #VALUE! | Z17: =Z16+$C$7 -> 100 | AA17: =SQRT(($U$6/2)^2-($U$6/2)^2*'(OLD) bottom seam length'!Z17^2/($U$7/2)^2) -> #VALUE! | AC17: =AC16+$C$7 -> 100 | AD17: =SQRT(($U$6/2)^2-($U$6/2)^2*'(OLD) bottom seam length'!AC17^2/($U$7/2)^2) -> #VALUE!
B18: =B17+$C$7 -> 140 | C18: =SQRT(($C$5/2)^2-($C$5/2)^2*'(OLD) bottom seam length'!B18^2/($C$6/2)^2) -> #DIV/0! | E18: =E17+$C$7 -> 140 | F18: =SQRT(($C$5/2)^2-($C$5/2)^2*'(OLD) bottom seam length'!E18^2/($C$6/2)^2) -> #DIV/0! | H18: =H17+$C$7 -> 140 | I18: =SQRT(($C$5/2)^2-($C$5/2)^2*'(OLD) bottom seam length'!H18^2/($C$6/2)^2) -> #DIV/0! | K18: =K17+$C$7 -> 140 | L18: =SQRT(($C$5/2)^2-($C$5/2)^2*'(OLD) bottom seam length'!K18^2/($C$6/2)^2) -> #DIV/0! | O18: =O17+$C$7 -> 140 | P18: =IF(O18<=$P$6,$P$5) -> FALSE | T18: =T17+$C$7 -> 120 | U18: =SQRT(($U$6/2)^2-($U$6/2)^2*'(OLD) bottom seam length'!T18^2/($U$7/2)^2) -> #VALUE! | W18: =W17+$C$7 -> 120 | X18: =SQRT(($U$6/2)^2-($U$6/2)^2*'(OLD) bottom seam length'!W18^2/($U$7/2)^2) -> #VALUE! | Z18: =Z17+$C$7 -> 120 | AA18: =SQRT(($U$6/2)^2-($U$6/2)^2*'(OLD) bottom seam length'!Z18^2/($U$7/2)^2) -> #VALUE! | AC18: =AC17+$C$7 -> 120 | AD18: =SQRT(($U$6/2)^2-($U$6/2)^2*'(OLD) bottom seam length'!AC18^2/($U$7/2)^2) -> #VALUE!
B19: =B18+$C$7 -> 160 | C19: =SQRT(($C$5/2)^2-($C$5/2)^2*'(OLD) bottom seam length'!B19^2/($C$6/2)^2) -> #DIV/0! | E19: =E18+$C$7 -> 160 | F19: =SQRT(($C$5/2)^2-($C$5/2)^2*'(OLD) bottom seam length'!E19^2/($C$6/2)^2) -> #DIV/0! | H19: =H18+$C$7 -> 160 | I19: =SQRT(($C$5/2)^2-($C$5/2)^2*'(OLD) bottom seam length'!H19^2/($C$6/2)^2) -> #DIV/0! | K19: =K18+$C$7 -> 160 | L19: =SQRT(($C$5/2)^2-($C$5/2)^2*'(OLD) bottom seam length'!K19^2/($C$6/2)^2) -> #DIV/0! | O19: =O18+$C$7 -> 160 | P19: =IF(O19<=$P$6,$P$5) -> FALSE | T19: =T18+$C$7 -> 140 | U19: =SQRT(($U$6/2)^2-($U$6/2)^2*'(OLD) bottom seam length'!T19^2/($U$7/2)^2) -> #VALUE! | W19: =W18+$C$7 -> 140 | X19: =SQRT(($U$6/2)^2-($U$6/2)^2*'(OLD) bottom seam length'!W19^2/($U$7/2)^2) -> #VALUE! | Z19: =Z18+$C$7 -> 140 | AA19: =SQRT(($U$6/2)^2-($U$6/2)^2*'(OLD) bottom seam length'!Z19^2/($U$7/2)^2) -> #VALUE! | AC19: =AC18+$C$7 -> 140 | AD19: =SQRT(($U$6/2)^2-($U$6/2)^2*'(OLD) bottom seam length'!AC19^2/($U$7/2)^2) -> #VALUE!
B20: =B19+$C$7 -> 180 | C20: =SQRT(($C$5/2)^2-($C$5/2)^2*'(OLD) bottom seam length'!B20^2/($C$6/2)^2) -> #DIV/0! | E20: =E19+$C$7 -> 180 | F20: =SQRT(($C$5/2)^2-($C$5/2)^2*'(OLD) bottom seam length'!E20^2/($C$6/2)^2) -> #DIV/0! | H20: =H19+$C$7 -> 180 | I20: =SQRT(($C$5/2)^2-($C$5/2)^2*'(OLD) bottom seam length'!H20^2/($C$6/2)^2) -> #DIV/0! | K20: =K19+$C$7 -> 180 | L20: =SQRT(($C$5/2)^2-($C$5/2)^2*'(OLD) bottom seam length'!K20^2/($C$6/2)^2) -> #DIV/0! | O20: =O19+$C$7 -> 180 | P20: =IF(O20<=$P$6,$P$5) -> FALSE | T20: =T19+$C$7 -> 160 | U20: =SQRT(($U$6/2)^2-($U$6/2)^2*'(OLD) bottom seam length'!T20^2/($U$7/2)^2) -> #VALUE! | W20: =W19+$C$7 -> 160 | X20: =SQRT(($U$6/2)^2-($U$6/2)^2*'(OLD) bottom seam length'!W20^2/($U$7/2)^2) -> #VALUE! | Z20: =Z19+$C$7 -> 160 | AA20: =SQRT(($U$6/2)^2-($U$6/2)^2*'(OLD) bottom seam length'!Z20^2/($U$7/2)^2) -> #VALUE! | AC20: =AC19+$C$7 -> 160 | AD20: =SQRT(($U$6/2)^2-($U$6/2)^2*'(OLD) bottom seam length'!AC20^2/($U$7/2)^2) -> #VALUE!
B21: =B20+$C$7 -> 200 | C21: =SQRT(($C$5/2)^2-($C$5/2)^2*'(OLD) bottom seam length'!B21^2/($C$6/2)^2) -> #DIV/0! | E21: =E20+$C$7 -> 200 | F21: =SQRT(($C$5/2)^2-($C$5/2)^2*'(OLD) bottom seam length'!E21^2/($C$6/2)^2) -> #DIV/0! | H21: =H20+$C$7 -> 200 | I21: =SQRT(($C$5/2)^2-($C$5/2)^2*'(OLD) bottom seam length'!H21^2/($C$6/2)^2) -> #DIV/0! | K21: =K20+$C$7 -> 200 | L21: =SQRT(($C$5/2)^2-($C$5/2)^2*'(OLD) bottom seam length'!K21^2/($C$6/2)^2) -> #DIV/0! | O21: =O20+$C$7 -> 200 | P21: =IF(O21<=$P$6,$P$5) -> FALSE | T21: =T20+$C$7 -> 180 | U21: =SQRT(($U$6/2)^2-($U$6/2)^2*'(OLD) bottom seam length'!T21^2/($U$7/2)^2) -> #VALUE! | W21: =W20+$C$7 -> 180 | X21: =SQRT(($U$6/2)^2-($U$6/2)^2*'(OLD) bottom seam length'!W21^2/($U$7/2)^2) -> #VALUE! | Z21: =Z20+$C$7 -> 180 | AA21: =SQRT(($U$6/2)^2-($U$6/2)^2*'(OLD) bottom seam length'!Z21^2/($U$7/2)^2) -> #VALUE! | AC21: =AC20+$C$7 -> 180 | AD21: =SQRT(($U$6/2)^2-($U$6/2)^2*'(OLD) bottom seam length'!AC21^2/($U$7/2)^2) -> #VALUE!
B22: =B21+$C$7 -> 220 | C22: =SQRT(($C$5/2)^2-($C$5/2)^2*'(OLD) bottom seam length'!B22^2/($C$6/2)^2) -> #DIV/0! | E22: =E21+$C$7 -> 220 | F22: =SQRT(($C$5/2)^2-($C$5/2)^2*'(OLD) bottom seam length'!E22^2/($C$6/2)^2) -> #DIV/0! | H22: =H21+$C$7 -> 220 | I22: =SQRT(($C$5/2)^2-($C$5/2)^2*'(OLD) bottom seam length'!H22^2/($C$6/2)^2) -> #DIV/0! | K22: =K21+$C$7 -> 220 | L22: =SQRT(($C$5/2)^2-($C$5/2)^2*'(OLD) bottom seam length'!K22^2/($C$6/2)^2) -> #DIV/0! | O22: =O21+$C$7 -> 220 | P22: =IF(O22<=$P$6,$P$5) -> FALSE | T22: =T21+$C$7 -> 200 | U22: =SQRT(($U$6/2)^2-($U$6/2)^2*'(OLD) bottom seam length'!T22^2/($U$7/2)^2) -> #VALUE! | W22: =W21+$C$7 -> 200 | X22: =SQRT(($U$6/2)^2-($U$6/2)^2*'(OLD) bottom seam length'!W22^2/($U$7/2)^2) -> #VALUE! | Z22: =Z21+$C$7 -> 200 | AA22: =SQRT(($U$6/2)^2-($U$6/2)^2*'(OLD) bottom seam length'!Z22^2/($U$7/2)^2) -> #VALUE! | AC22: =AC21+$C$7 -> 200 | AD22: =SQRT(($U$6/2)^2-($U$6/2)^2*'(OLD) bottom seam length'!AC22^2/($U$7/2)^2) -> #VALUE!
B23: =B22+$C$7 -> 240 | C23: =SQRT(($C$5/2)^2-($C$5/2)^2*'(OLD) bottom seam length'!B23^2/($C$6/2)^2) -> #DIV/0! | E23: =E22+$C$7 -> 240 | F23: =SQRT(($C$5/2)^2-($C$5/2)^2*'(OLD) bottom seam length'!E23^2/($C$6/2)^2) -> #DIV/0! | H23: =H22+$C$7 -> 240 | I23: =SQRT(($C$5/2)^2-($C$5/2)^2*'(OLD) bottom seam length'!H23^2/($C$6/2)^2) -> #DIV/0! | K23: =K22+$C$7 -> 240 | L23: =SQRT(($C$5/2)^2-($C$5/2)^2*'(OLD) bottom seam length'!K23^2/($C$6/2)^2) -> #DIV/0! | O23: =O22+$C$7 -> 240 | P23: =IF(O23<=$P$6,$P$5) -> FALSE | T23: =T22+$C$7 -> 220 | U23: =SQRT(($U$6/2)^2-($U$6/2)^2*'(OLD) bottom seam length'!T23^2/($U$7/2)^2) -> #VALUE! | W23: =W22+$C$7 -> 220 | X23: =SQRT(($U$6/2)^2-($U$6/2)^2*'(OLD) bottom seam length'!W23^2/($U$7/2)^2) -> #VALUE! | Z23: =Z22+$C$7 -> 220 | AA23: =SQRT(($U$6/2)^2-($U$6/2)^2*'(OLD) bottom seam length'!Z23^2/($U$7/2)^2) -> #VALUE! | AC23: =AC22+$C$7 -> 220 | AD23: =SQRT(($U$6/2)^2-($U$6/2)^2*'(OLD) bottom seam length'!AC23^2/($U$7/2)^2) -> #VALUE!
B24: =B23+$C$7 -> 260 | C24: =SQRT(($C$5/2)^2-($C$5/2)^2*'(OLD) bottom seam length'!B24^2/($C$6/2)^2) -> #DIV/0! | E24: =E23+$C$7 -> 260 | F24: =SQRT(($C$5/2)^2-($C$5/2)^2*'(OLD) bottom seam length'!E24^2/($C$6/2)^2) -> #DIV/0! | H24: =H23+$C$7 -> 260 | I24: =SQRT(($C$5/2)^2-($C$5/2)^2*'(OLD) bottom seam length'!H24^2/($C$6/2)^2) -> #DIV/0! | K24: =K23+$C$7 -> 260 | L24: =SQRT(($C$5/2)^2-($C$5/2)^2*'(OLD) bottom seam length'!K24^2/($C$6/2)^2) -> #DIV/0! | O24: =O23+$C$7 -> 260 | P24: =IF(O24<=$P$6,$P$5) -> FALSE | T24: =T23+$C$7 -> 240 | U24: =SQRT(($U$6/2)^2-($U$6/2)^2*'(OLD) bottom seam length'!T24^2/($U$7/2)^2) -> #VALUE! | W24: =W23+$C$7 -> 240 | X24: =SQRT(($U$6/2)^2-($U$6/2)^2*'(OLD) bottom seam length'!W24^2/($U$7/2)^2) -> #VALUE! | Z24: =Z23+$C$7 -> 240 | AA24: =SQRT(($U$6/2)^2-($U$6/2)^2*'(OLD) bottom seam length'!Z24^2/($U$7/2)^2) -> #VALUE! | AC24: =AC23+$C$7 -> 240 | AD24: =SQRT(($U$6/2)^2-($U$6/2)^2*'(OLD) bottom seam length'!AC24^2/($U$7/2)^2) -> #VALUE!
... B5011: =B5010+$C$7 -> 100000 | C5011: =SQRT(($C$5/2)^2-($C$5/2)^2*'(OLD) bottom seam length'!B5011^2/($C$6/2)^2) -> #DIV/0! | E5011: =E5010+$C$7 -> 100000 | F5011: =SQRT(($C$5/2)^2-($C$5/2)^2*'(OLD) bottom seam length'!E5011^2/($C$6/2)^2) -> #DIV/0! | H5011: =H5010+$C$7 -> 100000 | I5011: =SQRT(($C$5/2)^2-($C$5/2)^2*'(OLD) bottom seam length'!H5011^2/($C$6/2)^2) -> #DIV/0! | K5011: =K5010+$C$7 -> 100000 | L5011: =SQRT(($C$5/2)^2-($C$5/2)^2*'(OLD) bottom seam length'!K5011^2/($C$6/2)^2) -> #DIV/0! | O5011: =O5010+$C$7 -> 100000 | P5011: =IF(O5011<=$P$6,$P$5) -> FALSE | T5011: =T5010+$C$7 -> 99980 | U5011: =SQRT(($U$6/2)^2-($U$6/2)^2*'(OLD) bottom seam length'!T5011^2/($U$7/2)^2) -> #VALUE! | W5011: =W5010+$C$7 -> 99980 | X5011: =SQRT(($U$6/2)^2-($U$6/2)^2*'(OLD) bottom seam length'!W5011^2/($U$7/2)^2) -> #VALUE! | Z5011: =Z5010+$C$7 -> 99980 | AA5011: =SQRT(($U$6/2)^2-($U$6/2)^2*'(OLD) bottom seam length'!Z5011^2/($U$7/2)^2) -> #VALUE! | AC5011: =AC5010+$C$7 -> 99980 | AD5011: =SQRT(($U$6/2)^2-($U$6/2)^2*'(OLD) bottom seam length'!AC5011^2/($U$7/2)^2) -> #VALUE!

Sheet (OLD) side seam length
A1: geomembrane bottom seam length
A3: elliptical/circular | G3: rectangular | L3: non-standard
A4: =ROUNDUP(AVERAGE('SA+V calculation'!I4,'SA+V calculation'!L4)/'(OLD) side seam length'!A5,0) -> #DIV/0! | B4: seams
A5: 20 | B5: ft | C5: roll width
A6: ='SA+V calculation'!C4*'SA+V calculation'!F4 -> 0 | B6: ft | C6: slope width
A7: ='SA+V calculation'!C4 -> 0 | B7: ft | C7: slope height
A8: =SQRT(A6^2+A7^2) -> 0 | B8: ft | C8: slope length
A9: =A4*A8 -> #DIV/0! | B9: ft | C9: seam length
